BEGIN:VCALENDAR
VERSION:2.0
PRODID:-//Garnison Rennes - Tir sportif - ECPv6.7.0//NONSGML v1.0//EN
CALSCALE:GREGORIAN
METHOD:PUBLISH
X-WR-CALNAME:Garnison Rennes - Tir sportif
X-ORIGINAL-URL:https://www.tirsportifrennes.fr
X-WR-CALDESC:Évènements pour Garnison Rennes - Tir sportif
REFRESH-INTERVAL;VALUE=DURATION:PT1H
X-Robots-Tag:noindex
X-PUBLISHED-TTL:PT1H
BEGIN:VTIMEZONE
TZID:Europe/Paris
BEGIN:DAYLIGHT
TZOFFSETFROM:+0100
TZOFFSETTO:+0200
TZNAME:CEST
DTSTART:20250330T010000
END:DAYLIGHT
BEGIN:STANDARD
TZOFFSETFROM:+0200
TZOFFSETTO:+0100
TZNAME:CET
DTSTART:20251026T010000
END:STANDARD
END:VTIMEZONE
BEGIN:VEVENT
DTSTART;VALUE=DATE:20251122
DTEND;VALUE=DATE:20251124
DTSTAMP:20260424T115622
CREATED:20250914T135910Z
LAST-MODIFIED:20250914T140013Z
UID:4825-1763769600-1763942399@www.tirsportifrennes.fr
SUMMARY:Départemental 10-18M
DESCRIPTION:
URL:https://www.tirsportifrennes.fr/agenda/departementaux-10-18m-2/
LOCATION:La Du Guesclin\, 2 avenue des Gayeulles\, Rennes\, 35700\, France
CATEGORIES:Championnats officiels
END:VEVENT
END:VCALENDAR