BEGIN:VCALENDAR
VERSION:2.0
PRODID:-//Garnison Rennes - Tir sportif - ECPv6.7.0//NONSGML v1.0//EN
CALSCALE:GREGORIAN
METHOD:PUBLISH
X-ORIGINAL-URL:https://www.tirsportifrennes.fr
X-WR-CALDESC:Évènements pour Garnison Rennes - Tir sportif
REFRESH-INTERVAL;VALUE=DURATION:PT1H
X-Robots-Tag:noindex
X-PUBLISHED-TTL:PT1H
BEGIN:VTIMEZONE
TZID:Europe/Paris
BEGIN:DAYLIGHT
TZOFFSETFROM:+0100
TZOFFSETTO:+0200
TZNAME:CEST
DTSTART:20260329T010000
END:DAYLIGHT
BEGIN:STANDARD
TZOFFSETFROM:+0200
TZOFFSETTO:+0100
TZNAME:CET
DTSTART:20261025T010000
END:STANDARD
END:VTIMEZONE
BEGIN:VEVENT
DTSTART;VALUE=DATE:20260117
DTEND;VALUE=DATE:20260119
DTSTAMP:20260422T102245
CREATED:20251002T190921Z
LAST-MODIFIED:20251002T190921Z
UID:4850-1768608000-1768780799@www.tirsportifrennes.fr
SUMMARY:Départemental CLUB 10M
DESCRIPTION:
URL:https://www.tirsportifrennes.fr/agenda/departementaux-club-10m-2/
LOCATION:Aurore de Vitré – Stand de la Poultière\, 3 bis rue de la Poultière\, Vitré\, Bretagne\, 35500\, France
CATEGORIES:Championnats officiels
END:VEVENT
BEGIN:VEVENT
DTSTART;VALUE=DATE:20260126
DTEND;VALUE=DATE:20260201
DTSTAMP:20260422T102245
CREATED:20250914T154526Z
LAST-MODIFIED:20250914T154526Z
UID:4843-1769385600-1769903999@www.tirsportifrennes.fr
SUMMARY:FRANCE 10-18M
DESCRIPTION:
URL:https://www.tirsportifrennes.fr/agenda/france-10-18m-2/
LOCATION:STB Club de tir sportif\, 7 Faubourg Tarragnoz\, Besancon\, 25000\, France
CATEGORIES:Championnats officiels
END:VEVENT
END:VCALENDAR