BEGIN:VCALENDAR
VERSION:2.0
PRODID:-//Garnison Rennes - Tir sportif - ECPv6.7.0//NONSGML v1.0//EN
CALSCALE:GREGORIAN
METHOD:PUBLISH
X-WR-CALNAME:Garnison Rennes - Tir sportif
X-ORIGINAL-URL:https://www.tirsportifrennes.fr
X-WR-CALDESC:Évènements pour Garnison Rennes - Tir sportif
REFRESH-INTERVAL;VALUE=DURATION:PT1H
X-Robots-Tag:noindex
X-PUBLISHED-TTL:PT1H
BEGIN:VTIMEZONE
TZID:Europe/Paris
BEGIN:DAYLIGHT
TZOFFSETFROM:+0100
TZOFFSETTO:+0200
TZNAME:CEST
DTSTART:20260329T010000
END:DAYLIGHT
BEGIN:STANDARD
TZOFFSETFROM:+0200
TZOFFSETTO:+0100
TZNAME:CET
DTSTART:20261025T010000
END:STANDARD
END:VTIMEZONE
BEGIN:VEVENT
DTSTART;VALUE=DATE:20260314
DTEND;VALUE=DATE:20260316
DTSTAMP:20260420T101025
CREATED:20250914T154009Z
LAST-MODIFIED:20250914T154619Z
UID:4840-1773446400-1773619199@www.tirsportifrennes.fr
SUMMARY:FRANCE CLUBS 10M
DESCRIPTION:
URL:https://www.tirsportifrennes.fr/agenda/france-club-10m-2-2/
LOCATION:Tir Sportif Brivadois\, 16 avenue de Lamothe\, BRIOUDE\, 43100\, France
CATEGORIES:Championnats officiels
END:VEVENT
END:VCALENDAR